{"text_format":"1","workbook":"xlsx","n_sheets":2,"sheets":["LEES DIT","Blad1"],"not_rendered":{"charts":0,"images":3,"macros":1,"external_links":2,"defined_names":1,"comments":0,"pivot_tables":0},"unopened":[],"bounds":{"document_bytes":16777216,"sheet_cells":100000,"rows_first":2000,"rows_last":500,"rows_between":2000,"halvings":0,"cell_chars":16384,"cell_head_chars":4096},"cells_cut":0,"cells_raw":0,"read":"whole","date_system":"1900"}

{"sheet":"LEES DIT","index":0,"n_rows":116,"n_cols":9,"rows_kept":116,"cut":false,"hidden":false,"merged":[[32,1,32,5]]}
[]
[]
[]
[null,null,null,"© Auteursrecht: Wim de Groot"]
[]
[null,null,null,"Dit Excel-bestand is gemaakt door Wim de Groot voor ComputerIdee."]
[null,null,null,"U mag dit bestand gratis gebruiken en wij wensen u er veel plezier mee."]
[]
[null,null,null,"Op grond van het auteursrecht mag u dit bestand alleen kopiëren voor uzelf. "]
[null,null,null,"U mag dit bestand:"]
[null,null,null,"* niet verkopen"]
[null,null,null,"* niet vermenigvuldigen en verkopen"]
[null,null,null,"* niet op een website te koop aanbieden"]
[null,null,null,"* niet op cd, dvd, USB-stick en dergelijke te koop aanbieden"]
[]
[null,null,null,"Vragen over de werking van dit bestand kunt u sturen naar:"]
[null,null,null,"redactie@computeridee.nl"]
[]
[]
[null,null,null,"Zelf leren werken met Excel?"]
[null,null,null,"Wim de Groot verzorgt graag een cursus op uw bedrijf."]
[null,null,null,"Klik hier voor de mogelijkheden"]
[null,null,null,"Reactie van een deelnemer: \"Eindelijk iemand die Excel helder uitlegt!\""]
[]
[]
[null,null,null,"Wim de Groot denkt buiten de hokjes."]
[null,null,null,"Zijn website is:"]
[null,null,null,"www.exceltekstenuitleg.nl"]
[]
[]
[]
[]
[null,"↓  Klik op Blad1 om naar het andere tabblad te gaan  ↓"]
[]
[]
[]
[]
[]
[]
[]
[]
[]
[null,null,null,null,null,null,null,null,1]
[]
[]
[]
[]
[]
[]
[]
[]
[]
[]
[]
[]
[]
[]
[]
[]
[null,null,null,null,null,null,null,null,1]
[null,null,null,null,null,null,null,null,1]
[]
[]
[]
[]
[]
[]
[]
[]
[]
[]
[]
[]
[]
[]
[]
[]
[]
[]
[]
[]
[]
[]
[]
[]
[]
[]
[]
[]
[]
[]
[]
[]
[]
[]
[]
[null,null,null,null,null,null,null,null,1]
[]
[]
[]
[]
[]
[]
[]
[]
[]
[]
[]
[]
[]
[]
[]
[]
[]
[]
[null,null,null,0]

{"sheet":"Blad1","index":1,"n_rows":163,"n_cols":15,"rows_kept":163,"cut":false,"hidden":false,"merged":[]}
[null,null,null,null,null,null,null,null,"geboren","AOW-datum","jaar","mnd","leeftijd","rode kolom"]
[null,null,null,null,null,"geboren","AOW 65 jr + x mnd","1947-07-01",{"$f":"H2","v":"1947-07-01"},{"$f":"DATE(YEAR(I2)+65,MONTH(I2)+VLOOKUP(I2,F$4:G$14,2),DAY(I2))","v":"2012-07-01"},{"$f":"DATEDIF(I2,J2,\"y\")","v":65},{"$f":"MOD(DATEDIF(I2,J2,\"m\"),12)","v":0},{"$f":"K2+L2/12","v":65},{"$f":"[2]!AOWDtm(I2)","v":"2012-07-01"},{"$f":"N2-J2","v":0}]
[null,"Geboortedatum:","1959-03-07",null,null,"vanaf","na geb.datum","1947-08-01",{"$f":"H3-1","v":"1947-07-31"},"2012-07-31",65,0,65,{"$f":"[2]!AOWDtm(I3)","v":"2012-07-31"},{"$f":"N3-J3","v":0}]
[null,null,null,null,null,"1900-01-01",0,"1947-09-01","1947-08-31","2012-08-31",65,0,65,{"$f":"[2]!AOWDtm(I4)","v":"2012-08-31"},0]
[null,"AOW-datum:",{"$f":"DATE(YEAR(C3)+65,MONTH(C3)+VLOOKUP(C3,F4:G14,2),DAY(C3))","v":"2026-03-07"},null,null,"1948-01-01",1,"1947-10-01","1947-09-30","2012-09-30",65,0,65,{"$f":"[2]!AOWDtm(I5)","v":"2012-09-30"},0]
[null,null,null,null,null,"1948-12-01",2,"1947-11-01","1947-10-31","2012-10-31",65,0,65,{"$f":"[2]!AOWDtm(I6)","v":"2012-10-31"},0]
[null,{"$f":"IF(C5<NOW(),\"Je was toen\",\"Je bent dan\")","v":"Je bent dan"},{"$f":"DATEDIF(C3,C5,\"y\")","v":67},{"$f":"\"jaar\"&IF(C8>0,\" en\",\"\")","v":"jaar"},null,"1949-11-01",3,"1947-12-01","1947-11-30","2012-11-30",65,0,65,{"$f":"[2]!AOWDtm(I7)","v":"2012-11-30"},0]
[null,null,{"$f":"MOD(DATEDIF(C3,C5,\"m\"),12)","v":0},{"$f":"IF(C8=0,0,IF(C8=1,\"maand\",\"maanden\"))","v":0},null,"1950-10-01",6,"1948-01-01","1947-12-31",{"$f":"DATE(YEAR(I8)+65,MONTH(I8)+VLOOKUP(I8,F$4:G$14,2),DAY(I8))","v":"2012-12-31"},{"$f":"DATEDIF(I8,J8,\"y\")","v":65},{"$f":"MOD(DATEDIF(I8,J8,\"m\"),12)","v":0},{"$f":"K8+L8/12","v":65},{"$f":"AOWDtm(I8)","v":"2012-12-31"},0]
[null,{"$f":"IF(C5<NOW(),\"\",\"Dat is over\")","v":"Dat is over"},{"$f":"DATEDIF(NOW(),C5,\"y\")","v":5},{"$f":"IF(AND(C9>0,C10>0),\"jaar en\",IF(AND(C9>0,C10=0),\"jaar\",\"\"))","v":"jaar"},null,"1951-07-01",9,"1948-02-01","1948-01-31",{"$f":"DATE(YEAR(I9)+65,MONTH(I9)+VLOOKUP(I9,F$4:G$14,2),DAY(I9))","v":"2013-03-03"},{"$f":"DATEDIF(I9,J9,\"y\")","v":65},{"$f":"MOD(DATEDIF(I9,J9,\"m\"),12)","v":1},{"$f":"K9+L9/12","v":65.083333333333329},{"$f":"[2]!AOWDtm(I9)","v":"2013-02-28"},-3]
[null,null,{"$f":"MOD(DATEDIF(NOW(),C5,\"m\"),12)","v":0},{"$f":"IF(C10=0,0,IF(C10=1,\"maand\",\"maanden\"))","v":0},null,"1952-04-01",12,"1948-03-01","1948-02-29","2013-03-29",65,1,65.083333333333329,{"$f":"[2]!AOWDtm(I10)","v":"2013-03-29"},0]
[null,null,null,null,null,"1953-01-01",16,"1948-04-01","1948-03-31","2013-05-01",65,1,65.083333333333329,{"$f":"[2]!AOWDtm(I11)","v":"2013-04-30"},-1]
[null,null,null,null,null,"1955-09-01",19,"1948-05-01","1948-04-30","2013-05-30",65,1,65.083333333333329,{"$f":"[2]!AOWDtm(I12)","v":"2013-05-30"},0]
[null,null,null,null,null,"1956-06-01",22,"1948-06-01","1948-05-31","2013-07-01",65,1,65.083333333333329,{"$f":"[2]!AOWDtm(I13)","v":"2013-06-30"},-1]
[null,null,null,null,null,"1957-03-01",24,"1948-07-01","1948-06-30","2013-07-30",65,1,65.083333333333329,{"$f":"[2]!AOWDtm(I14)","v":"2013-07-30"},0]
[null,null,null,null,null,null,null,"1948-08-01","1948-07-31","2013-08-31",65,1,65.083333333333329,{"$f":"[2]!AOWDtm(I15)","v":"2013-08-31"},0]
[null,null,null,null,null,null,null,"1948-09-01","1948-08-31","2013-10-01",65,1,65.083333333333329,{"$f":"[2]!AOWDtm(I16)","v":"2013-09-30"},-1]
[null,null,null,null,null,null,null,"1948-10-01","1948-09-30","2013-10-30",65,1,65.083333333333329,{"$f":"[2]!AOWDtm(I17)","v":"2013-10-30"},0]
[null,null,null,null,null,null,null,"1948-11-01","1948-10-31","2013-12-01",65,1,65.083333333333329,{"$f":"[2]!AOWDtm(I18)","v":"2013-11-30"},-1]
[null,null,null,null,null,null,null,"1948-12-01","1948-11-30","2013-12-30",65,1,65.083333333333329,{"$f":"[2]!AOWDtm(I19)","v":"2013-12-30"},0]
[null,null,null,null,null,null,null,"1949-01-01","1948-12-31","2014-03-03",65,2,65.166666666666671,{"$f":"[2]!AOWDtm(I20)","v":"2014-02-28"},-3]
[null,null,null,null,null,null,null,"1949-02-01","1949-01-31","2014-03-31",65,2,65.166666666666671,{"$f":"[2]!AOWDtm(I21)","v":"2014-03-31"},0]
[null,null,null,null,null,-1,null,"1949-03-01","1949-02-28","2014-04-28",65,2,65.166666666666671,{"$f":"[2]!AOWDtm(I22)","v":"2014-04-28"},0]
[null,null,null,null,null,null,null,"1949-04-01","1949-03-31","2014-05-31",65,2,65.166666666666671,{"$f":"[2]!AOWDtm(I23)","v":"2014-05-31"},0]
[null,null,null,null,null,null,null,"1949-05-01","1949-04-30","2014-06-30",65,2,65.166666666666671,{"$f":"[2]!AOWDtm(I24)","v":"2014-06-30"},0]
[null,null,null,null,null,null,null,"1949-06-01","1949-05-31","2014-07-31",65,2,65.166666666666671,{"$f":"[2]!AOWDtm(I25)","v":"2014-07-31"},0]
[null,null,null,null,null,null,null,"1949-07-01","1949-06-30","2014-08-30",65,2,65.166666666666671,{"$f":"[2]!AOWDtm(I26)","v":"2014-08-30"},0]
[null,null,null,null,null,null,null,"1949-08-01","1949-07-31","2014-10-01",65,2,65.166666666666671,{"$f":"[2]!AOWDtm(I27)","v":"2014-09-30"},-1]
[null,null,null,null,null,null,null,"1949-09-01","1949-08-31","2014-10-31",65,2,65.166666666666671,{"$f":"[2]!AOWDtm(I28)","v":"2014-10-31"},0]
[null,null,null,null,null,null,null,"1949-10-01","1949-09-30","2014-11-30",65,2,65.166666666666671,{"$f":"[2]!AOWDtm(I29)","v":"2014-11-30"},0]
[null,null,null,null,null,null,null,"1949-11-01","1949-10-31","2014-12-31",65,2,65.166666666666671,{"$f":"[2]!AOWDtm(I30)","v":"2014-12-31"},0]
[null,null,null,null,null,null,null,"1949-12-01","1949-11-30","2015-03-02",65,3,65.25,{"$f":"[2]!AOWDtm(I31)","v":"2015-02-28"},-2]
[null,null,null,null,null,null,null,"1950-01-01","1949-12-31","2015-03-31",65,3,65.25,{"$f":"[2]!AOWDtm(I32)","v":"2015-03-31"},0]
[null,null,null,null,null,null,null,"1950-02-01","1950-01-31","2015-05-01",65,3,65.25,{"$f":"[2]!AOWDtm(I33)","v":"2015-04-30"},-1]
[null,null,null,null,null,null,null,"1950-03-01","1950-02-28","2015-05-28",65,3,65.25,{"$f":"[2]!AOWDtm(I34)","v":"2015-05-28"},0]
[null,null,null,null,null,null,null,"1950-04-01","1950-03-31","2015-07-01",65,3,65.25,{"$f":"[2]!AOWDtm(I35)","v":"2015-06-30"},-1]
[null,null,null,null,null,null,null,"1950-05-01","1950-04-30","2015-07-30",65,3,65.25,{"$f":"[2]!AOWDtm(I36)","v":"2015-07-30"},0]
[null,null,null,null,null,null,null,"1950-06-01","1950-05-31","2015-08-31",65,3,65.25,{"$f":"[2]!AOWDtm(I37)","v":"2015-08-31"},0]
[null,null,null,null,null,null,null,"1950-07-01","1950-06-30","2015-09-30",65,3,65.25,{"$f":"[2]!AOWDtm(I38)","v":"2015-09-30"},0]
[null,null,null,null,null,null,null,"1950-08-01","1950-07-31","2015-10-31",65,3,65.25,{"$f":"[2]!AOWDtm(I39)","v":"2015-10-31"},0]
[null,null,null,null,null,null,null,"1950-09-01","1950-08-31",{"$f":"DATE(YEAR(I40)+65,MONTH(I40)+VLOOKUP(I40,F$4:G$14,2),DAY(I40))","v":"2015-12-01"},{"$f":"DATEDIF(I40,J40,\"y\")","v":65},{"$f":"MOD(DATEDIF(I40,J40,\"m\"),12)","v":3},65.25,{"$f":"[2]!AOWDtm(I40)","v":"2015-11-30"},-1]
[null,null,null,null,null,null,null,"1950-10-01","1950-09-30","2015-12-30",65,3,65.25,{"$f":"[2]!AOWDtm(I41)","v":"2015-12-30"},0]
[null,null,null,null,null,null,null,"1950-11-01","1950-10-31","2016-05-01",65,6,65.5,{"$f":"[2]!AOWDtm(I42)","v":"2016-04-30"},-1]
[null,null,null,null,null,null,null,"1950-12-01","1950-11-30","2016-05-30",65,6,65.5,{"$f":"[2]!AOWDtm(I43)","v":"2016-05-30"},0]
[null,null,null,null,null,null,null,"1951-01-01","1950-12-31","2016-07-01",65,6,65.5,{"$f":"[2]!AOWDtm(I44)","v":"2016-06-30"},-1]
[null,null,null,null,null,null,null,"1951-02-01","1951-01-31","2016-07-31",65,6,65.5,{"$f":"[2]!AOWDtm(I45)","v":"2016-07-31"},0]
[null,null,null,null,null,null,null,"1951-03-01","1951-02-28","2016-08-28",65,6,65.5,{"$f":"[2]!AOWDtm(I46)","v":"2016-08-28"},0]
[null,null,null,null,null,null,null,"1951-04-01","1951-03-31","2016-10-01",65,6,65.5,{"$f":"[2]!AOWDtm(I47)","v":"2016-09-30"},-1]
[null,null,null,null,null,null,null,"1951-05-01","1951-04-30","2016-10-30",65,6,65.5,{"$f":"[2]!AOWDtm(I48)","v":"2016-10-30"},0]
[null,null,null,null,null,null,null,"1951-06-01","1951-05-31","2016-12-01",65,6,65.5,{"$f":"[2]!AOWDtm(I49)","v":"2016-11-30"},-1]
[null,null,null,null,null,null,null,"1951-07-01","1951-06-30","2016-12-30",65,6,65.5,{"$f":"[2]!AOWDtm(I50)","v":"2016-12-30"},0]
[null,null,null,null,null,null,null,"1951-08-01","1951-07-31","2017-05-01",65,9,65.75,{"$f":"[2]!AOWDtm(I51)","v":"2017-04-30"},-1]
[null,null,null,null,null,null,null,"1951-09-01","1951-08-31","2017-05-31",65,9,65.75,{"$f":"[2]!AOWDtm(I52)","v":"2017-05-31"},0]
[null,null,null,null,null,null,null,"1951-10-01","1951-09-30","2017-06-30",65,9,65.75,{"$f":"[2]!AOWDtm(I53)","v":"2017-06-30"},0]
[null,null,null,null,null,null,null,"1951-11-01","1951-10-31","2017-07-31",65,9,65.75,{"$f":"[2]!AOWDtm(I54)","v":"2017-07-31"},0]
[null,null,null,null,null,null,null,"1951-12-01","1951-11-30","2017-08-30",65,9,65.75,{"$f":"[2]!AOWDtm(I55)","v":"2017-08-30"},0]
[null,null,null,null,null,null,null,"1952-01-01","1951-12-31","2017-10-01",65,9,65.75,{"$f":"[2]!AOWDtm(I56)","v":"2017-09-30"},-1]
[null,null,null,null,null,null,null,"1952-02-01","1952-01-31","2017-10-31",65,9,65.75,{"$f":"[2]!AOWDtm(I57)","v":"2017-10-31"},0]
[null,null,null,null,null,null,null,"1952-03-01","1952-02-29","2017-11-29",65,9,65.75,{"$f":"[2]!AOWDtm(I58)","v":"2017-11-29"},0]
[null,null,null,null,null,null,null,"1952-04-01","1952-03-31","2017-12-31",65,9,65.75,{"$f":"[2]!AOWDtm(I59)","v":"2017-12-31"},0]
[null,null,null,null,null,null,null,"1952-05-01","1952-04-30","2018-04-30",66,0,66,{"$f":"[2]!AOWDtm(I60)","v":"2018-04-30"},0]
[null,null,null,null,null,null,null,"1952-06-01","1952-05-31","2018-05-31",66,0,66,{"$f":"[2]!AOWDtm(I61)","v":"2018-05-31"},0]
[null,null,null,null,null,null,null,"1952-07-01","1952-06-30","2018-06-30",66,0,66,{"$f":"[2]!AOWDtm(I62)","v":"2018-06-30"},0]
[null,null,null,null,null,null,null,"1952-08-01","1952-07-31","2018-07-31",66,0,66,{"$f":"[2]!AOWDtm(I63)","v":"2018-07-31"},0]
[null,null,null,null,null,null,null,"1952-09-01","1952-08-31","2018-08-31",66,0,66,{"$f":"[2]!AOWDtm(I64)","v":"2018-08-31"},0]
[null,null,null,null,null,null,null,"1952-10-01","1952-09-30","2018-09-30",66,0,66,{"$f":"[2]!AOWDtm(I65)","v":"2018-09-30"},0]
[null,null,null,null,null,null,null,"1952-11-01","1952-10-31","2018-10-31",66,0,66,{"$f":"[2]!AOWDtm(I66)","v":"2018-10-31"},0]
[null,null,null,null,null,null,null,"1952-12-01",{"$f":"H67-1","v":"1952-11-30"},"2018-11-30",66,0,66,{"$f":"[2]!AOWDtm(I67)","v":"2018-11-30"},{"$f":"N67-J67","v":0}]
[null,null,null,null,null,null,null,"1953-01-01","1952-12-31","2018-12-31",66,0,66,{"$f":"[2]!AOWDtm(I68)","v":"2018-12-31"},0]
[null,null,null,null,null,null,null,"1953-02-01","1953-01-31","2019-05-31",66,4,66.333333333333329,{"$f":"[2]!AOWDtm(I69)","v":"2019-05-31"},0]
[null,null,null,null,null,null,null,"1953-03-01","1953-02-28","2019-06-28",66,4,66.333333333333329,{"$f":"[2]!AOWDtm(I70)","v":"2019-06-28"},0]
[null,null,null,null,null,null,null,"1953-04-01","1953-03-31","2019-07-31",66,4,66.333333333333329,{"$f":"[2]!AOWDtm(I71)","v":"2019-07-31"},0]
[null,null,null,null,null,null,null,"1953-05-01","1953-04-30","2019-08-30",66,4,66.333333333333329,{"$f":"[2]!AOWDtm(I72)","v":"2019-08-30"},0]
[null,null,null,null,null,null,null,"1953-06-01","1953-05-31","2019-10-01",66,4,{"$f":"K73+L73/12","v":66.333333333333329},{"$f":"[2]!AOWDtm(I73)","v":"2019-09-30"},-1]
[null,null,null,null,null,null,null,"1953-07-01","1953-06-30","2019-10-30",66,4,66.333333333333329,{"$f":"[2]!AOWDtm(I74)","v":"2019-10-30"},0]
[null,null,null,null,null,null,null,"1953-08-01","1953-07-31","2019-12-01",66,4,66.333333333333329,{"$f":"[2]!AOWDtm(I75)","v":"2019-11-30"},-1]
[null,null,null,null,null,null,null,"1953-09-01","1953-08-31","2019-12-31",66,4,66.333333333333329,{"$f":"[2]!AOWDtm(I76)","v":"2019-12-31"},0]
[null,null,null,null,null,null,null,"1953-10-01","1953-09-30","2020-01-30",66,4,66.333333333333329,{"$f":"[2]!AOWDtm(I77)","v":"2020-01-30"},0]
[null,null,null,null,null,null,null,"1953-11-01","1953-10-31","2020-03-02",66,4,66.333333333333329,{"$f":"[2]!AOWDtm(I78)","v":"2020-02-28"},-3]
[null,null,null,null,null,null,null,"1953-12-01","1953-11-30","2020-03-30",66,4,66.333333333333329,{"$f":"[2]!AOWDtm(I79)","v":"2020-03-30"},0]
[null,null,null,null,null,null,null,"1954-01-01","1953-12-31","2020-05-01",66,4,66.333333333333329,{"$f":"[2]!AOWDtm(I80)","v":"2020-04-30"},-1]
[null,null,null,null,null,null,null,"1954-02-01","1954-01-31","2020-05-31",66,4,66.333333333333329,{"$f":"[2]!AOWDtm(I81)","v":"2020-05-31"},0]
[null,null,null,null,null,null,null,"1954-03-01","1954-02-28","2020-06-28",66,4,66.333333333333329,{"$f":"[2]!AOWDtm(I82)","v":"2020-06-28"},0]
[null,null,null,null,null,null,null,"1954-04-01","1954-03-31","2020-07-31",66,4,66.333333333333329,{"$f":"[2]!AOWDtm(I83)","v":"2020-07-31"},0]
[null,null,null,null,null,null,null,"1954-05-01","1954-04-30","2020-08-30",66,4,66.333333333333329,{"$f":"[2]!AOWDtm(I84)","v":"2020-08-30"},0]
[null,null,null,null,null,null,null,"1954-06-01","1954-05-31","2020-10-01",66,4,66.333333333333329,{"$f":"[2]!AOWDtm(I85)","v":"2020-09-30"},-1]
[null,null,null,null,null,null,null,"1954-07-01","1954-06-30","2020-10-30",66,4,66.333333333333329,{"$f":"[2]!AOWDtm(I86)","v":"2020-10-30"},0]
[null,null,null,null,null,null,null,"1954-08-01","1954-07-31","2020-12-01",66,4,66.333333333333329,{"$f":"[2]!AOWDtm(I87)","v":"2020-11-30"},-1]
[null,null,null,null,null,null,null,"1954-09-01","1954-08-31","2020-12-31",66,4,66.333333333333329,{"$f":"[2]!AOWDtm(I88)","v":"2020-12-31"},0]
[null,null,null,null,null,null,null,"1954-10-01","1954-09-30","2021-01-30",66,4,66.333333333333329,{"$f":"[2]!AOWDtm(I89)","v":"2021-01-30"},0]
[null,null,null,null,null,null,null,"1954-11-01","1954-10-31","2021-03-03",66,4,66.333333333333329,{"$f":"[2]!AOWDtm(I90)","v":"2021-02-28"},-3]
[null,null,null,null,null,null,null,"1954-12-01","1954-11-30","2021-03-30",66,4,66.333333333333329,{"$f":"[2]!AOWDtm(I91)","v":"2021-03-30"},0]
[null,null,null,null,null,null,null,"1955-01-01","1954-12-31","2021-05-01",66,4,66.333333333333329,{"$f":"[2]!AOWDtm(I92)","v":"2021-04-30"},-1]
[null,null,null,null,null,null,null,"1955-02-01","1955-01-31","2021-05-31",66,4,66.333333333333329,{"$f":"[2]!AOWDtm(I93)","v":"2021-05-31"},0]
[null,null,null,null,null,null,null,"1955-03-01","1955-02-28","2021-06-28",66,4,66.333333333333329,{"$f":"[2]!AOWDtm(I94)","v":"2021-06-28"},0]
[null,null,null,null,null,null,null,"1955-04-01","1955-03-31","2021-07-31",66,4,66.333333333333329,{"$f":"[2]!AOWDtm(I95)","v":"2021-07-31"},0]
[null,null,null,null,null,null,null,"1955-05-01","1955-04-30","2021-08-30",66,4,66.333333333333329,{"$f":"[2]!AOWDtm(I96)","v":"2021-08-30"},0]
[null,null,null,null,null,null,null,"1955-06-01","1955-05-31","2021-10-01",66,4,66.333333333333329,{"$f":"[2]!AOWDtm(I97)","v":"2021-09-30"},-1]
[null,null,null,null,null,null,null,"1955-07-01","1955-06-30","2021-10-30",66,4,66.333333333333329,{"$f":"[2]!AOWDtm(I98)","v":"2021-10-30"},0]
[null,null,null,null,null,null,null,"1955-08-01","1955-07-31","2021-12-01",66,4,66.333333333333329,{"$f":"[2]!AOWDtm(I99)","v":"2021-11-30"},-1]
[null,null,null,null,null,null,null,"1955-09-01","1955-08-31","2021-12-31",66,4,66.333333333333329,{"$f":"[2]!AOWDtm(I100)","v":"2021-12-31"},0]
[null,null,null,null,null,null,null,"1955-10-01","1955-09-30","2022-04-30",66,7,66.583333333333329,{"$f":"[2]!AOWDtm(I101)","v":"2022-04-30"},0]
[null,null,null,null,null,null,null,"1955-11-01","1955-10-31","2022-05-31",66,7,66.583333333333329,{"$f":"[2]!AOWDtm(I102)","v":"2022-05-31"},0]
[null,null,null,null,null,null,null,"1955-12-01","1955-11-30","2022-06-30",66,7,66.583333333333329,{"$f":"[2]!AOWDtm(I103)","v":"2022-06-30"},0]
[null,null,null,null,null,null,null,"1956-01-01","1955-12-31",{"$f":"DATE(YEAR(I104)+65,MONTH(I104)+VLOOKUP(I104,F$4:G$14,2),DAY(I104))","v":"2022-07-31"},{"$f":"DATEDIF(I104,J104,\"y\")","v":66},{"$f":"MOD(DATEDIF(I104,J104,\"m\"),12)","v":7},66.583333333333329,{"$f":"[2]!AOWDtm(I104)","v":"2022-07-31"},0]
[null,null,null,null,null,null,null,"1956-02-01","1956-01-31","2022-08-31",66,7,66.583333333333329,{"$f":"[2]!AOWDtm(I105)","v":"2022-08-31"},0]
[null,null,null,null,null,null,null,"1956-03-01","1956-02-29","2022-09-29",66,7,66.583333333333329,{"$f":"[2]!AOWDtm(I106)","v":"2022-09-29"},0]
[null,null,null,null,null,null,null,"1956-04-01","1956-03-31","2022-10-31",66,7,66.583333333333329,{"$f":"[2]!AOWDtm(I107)","v":"2022-10-31"},0]
[null,null,null,null,null,null,null,"1956-05-01","1956-04-30","2022-11-30",66,7,66.583333333333329,{"$f":"[2]!AOWDtm(I108)","v":"2022-11-30"},0]
[null,null,null,null,null,null,null,"1956-06-01","1956-05-31","2022-12-31",66,7,66.583333333333329,{"$f":"[2]!AOWDtm(I109)","v":"2022-12-31"},0]
[null,null,null,null,null,null,null,"1956-07-01","1956-06-30","2023-04-30",66,10,66.833333333333329,{"$f":"[2]!AOWDtm(I110)","v":"2023-04-30"},0]
[null,null,null,null,null,null,null,"1956-08-01","1956-07-31","2023-05-31",66,10,66.833333333333329,{"$f":"[2]!AOWDtm(I111)","v":"2023-05-31"},0]
[null,null,null,null,null,null,null,"1956-09-01","1956-08-31","2023-07-01",66,10,66.833333333333329,{"$f":"[2]!AOWDtm(I112)","v":"2023-06-30"},-1]
[null,null,null,null,null,null,null,"1956-10-01","1956-09-30","2023-07-30",66,10,66.833333333333329,{"$f":"[2]!AOWDtm(I113)","v":"2023-07-30"},0]
[null,null,null,null,null,null,null,"1956-11-01","1956-10-31","2023-08-31",66,10,66.833333333333329,{"$f":"[2]!AOWDtm(I114)","v":"2023-08-31"},0]
[null,null,null,null,null,null,null,"1956-12-01","1956-11-30","2023-09-30",66,10,66.833333333333329,{"$f":"[2]!AOWDtm(I115)","v":"2023-09-30"},0]
[null,null,null,null,null,null,null,"1957-01-01","1956-12-31","2023-10-31",66,10,66.833333333333329,{"$f":"[2]!AOWDtm(I116)","v":"2023-10-31"},0]
[null,null,null,null,null,null,null,"1957-02-01","1957-01-31","2023-12-01",66,10,66.833333333333329,{"$f":"[2]!AOWDtm(I117)","v":"2023-11-30"},-1]
[null,null,null,null,null,null,null,"1957-03-01","1957-02-28","2023-12-28",66,10,66.833333333333329,{"$f":"[2]!AOWDtm(I118)","v":"2023-12-28"},0]
[null,null,null,null,null,null,null,"1957-04-01","1957-03-31","2024-03-31",67,0,67,{"$f":"[2]!AOWDtm(I119)","v":"2024-03-31"},0]
[null,null,null,null,null,null,null,"1957-05-01","1957-04-30","2024-04-30",67,0,67,{"$f":"[2]!AOWDtm(I120)","v":"2024-04-30"},0]
[null,null,null,null,null,null,null,"1957-06-01","1957-05-31","2024-05-31",67,0,67,{"$f":"[2]!AOWDtm(I121)","v":"2024-05-31"},0]
[null,null,null,null,null,null,null,"1957-07-01","1957-06-30","2024-06-30",67,0,67,{"$f":"[2]!AOWDtm(I122)","v":"2024-06-30"},0]
[null,null,null,null,null,null,null,"1957-08-01","1957-07-31","2024-07-31",67,0,67,{"$f":"[2]!AOWDtm(I123)","v":"2024-07-31"},0]
[null,null,null,null,null,null,null,"1957-09-01","1957-08-31","2024-08-31",67,0,67,{"$f":"[2]!AOWDtm(I124)","v":"2024-08-31"},0]
[null,null,null,null,null,null,null,"1957-10-01","1957-09-30","2024-09-30",67,0,67,{"$f":"[2]!AOWDtm(I125)","v":"2024-09-30"},0]
[null,null,null,null,null,null,null,"1957-11-01","1957-10-31","2024-10-31",67,0,67,{"$f":"[2]!AOWDtm(I126)","v":"2024-10-31"},0]
[null,null,null,null,null,null,null,"1957-12-01","1957-11-30","2024-11-30",67,0,67,{"$f":"[2]!AOWDtm(I127)","v":"2024-11-30"},0]
[null,null,null,null,null,null,null,"1958-01-01","1957-12-31","2024-12-31",67,0,67,{"$f":"[2]!AOWDtm(I128)","v":"2024-12-31"},0]
[null,null,null,null,null,null,null,"1958-02-01","1958-01-31","2025-01-31",67,0,67,{"$f":"[2]!AOWDtm(I129)","v":"2025-01-31"},0]
[null,null,null,null,null,null,null,"1958-03-01","1958-02-28","2025-02-28",67,0,67,{"$f":"[2]!AOWDtm(I130)","v":"2025-02-28"},0]
[null,null,null,null,null,null,null,"1958-04-01",{"$f":"H131-1","v":"1958-03-31"},"2025-03-31",67,0,67,{"$f":"[2]!AOWDtm(I131)","v":"2025-03-31"},{"$f":"N131-J131","v":0}]
[null,null,null,null,null,null,null,"1958-05-01","1958-04-30","2025-04-30",67,0,67,{"$f":"[2]!AOWDtm(I132)","v":"2025-04-30"},0]
[null,null,null,null,null,null,null,"1958-06-01","1958-05-31","2025-05-31",67,0,67,{"$f":"[2]!AOWDtm(I133)","v":"2025-05-31"},0]
[null,null,null,null,null,null,null,"1958-07-01","1958-06-30","2025-06-30",67,0,67,{"$f":"[2]!AOWDtm(I134)","v":"2025-06-30"},0]
[null,null,null,null,null,null,null,"1958-08-01","1958-07-31","2025-07-31",67,0,67,{"$f":"[2]!AOWDtm(I135)","v":"2025-07-31"},0]
[null,null,null,null,null,null,null,"1958-09-01","1958-08-31","2025-08-31",67,0,67,{"$f":"[2]!AOWDtm(I136)","v":"2025-08-31"},0]
[null,null,null,null,null,null,null,"1958-10-01","1958-09-30","2025-09-30",67,0,{"$f":"K137+L137/12","v":67},{"$f":"[2]!AOWDtm(I137)","v":"2025-09-30"},0]
[null,null,null,null,null,null,null,"1958-11-01","1958-10-31","2025-10-31",67,0,67,{"$f":"[2]!AOWDtm(I138)","v":"2025-10-31"},0]
[null,null,null,null,null,null,null,"1958-12-01","1958-11-30","2025-11-30",67,0,67,{"$f":"[2]!AOWDtm(I139)","v":"2025-11-30"},0]
[null,null,null,null,null,null,null,"1959-01-01","1958-12-31","2025-12-31",67,0,67,{"$f":"[2]!AOWDtm(I140)","v":"2025-12-31"},0]
[null,null,null,null,null,null,null,"1959-02-01","1959-01-31","2026-01-31",67,0,67,{"$f":"[2]!AOWDtm(I141)","v":"2026-01-31"},0]
[null,null,null,null,null,null,null,"1959-03-01","1959-02-28","2026-02-28",67,0,67,{"$f":"[2]!AOWDtm(I142)","v":"2026-02-28"},0]
[null,null,null,null,null,null,null,"1959-04-01","1959-03-31","2026-03-31",67,0,67,{"$f":"[2]!AOWDtm(I143)","v":"2026-03-31"},0]
[null,null,null,null,null,null,null,"1959-05-01","1959-04-30","2026-04-30",67,0,67,{"$f":"[2]!AOWDtm(I144)","v":"2026-04-30"},0]
[null,null,null,null,null,null,null,"1959-06-01","1959-05-31","2026-05-31",67,0,67,{"$f":"[2]!AOWDtm(I145)","v":"2026-05-31"},0]
[null,null,null,null,null,null,null,"1959-07-01","1959-06-30","2026-06-30",67,0,67,{"$f":"[2]!AOWDtm(I146)","v":"2026-06-30"},0]
[null,null,null,null,null,null,null,"1959-08-01","1959-07-31","2026-07-31",67,0,67,{"$f":"[2]!AOWDtm(I147)","v":"2026-07-31"},0]
[null,null,null,null,null,null,null,"1959-09-01","1959-08-31","2026-08-31",67,0,67,{"$f":"[2]!AOWDtm(I148)","v":"2026-08-31"},0]
[null,null,null,null,null,null,null,"1959-10-01","1959-09-30","2026-09-30",67,0,67,{"$f":"[2]!AOWDtm(I149)","v":"2026-09-30"},0]
[null,null,null,null,null,null,null,"1959-11-01","1959-10-31","2026-10-31",67,0,67,{"$f":"[2]!AOWDtm(I150)","v":"2026-10-31"},0]
[null,null,null,null,null,null,null,"1959-12-01","1959-11-30","2026-11-30",67,0,67,{"$f":"[2]!AOWDtm(I151)","v":"2026-11-30"},0]
[null,null,null,null,null,null,null,"1960-01-01","1959-12-31","2026-12-31",67,0,67,{"$f":"[2]!AOWDtm(I152)","v":"2026-12-31"},0]
[null,null,null,null,null,null,null,"1960-02-01","1960-01-31","2027-01-31",67,0,67,{"$f":"[2]!AOWDtm(I153)","v":"2027-01-31"},0]
[null,null,null,null,null,null,null,"1960-03-01","1960-02-29","2027-03-01",67,0,67,{"$f":"[2]!AOWDtm(I154)","v":"2027-02-28"},-1]
[null,null,null,null,null,null,null,"1960-04-01","1960-03-31","2027-03-31",67,0,67,{"$f":"[2]!AOWDtm(I155)","v":"2027-03-31"},0]
[null,null,null,null,null,null,null,"1960-05-01","1960-04-30","2027-04-30",67,0,67,{"$f":"[2]!AOWDtm(I156)","v":"2027-04-30"},0]
[null,null,null,null,null,null,null,"1960-06-01","1960-05-31","2027-05-31",67,0,67,{"$f":"[2]!AOWDtm(I157)","v":"2027-05-31"},0]
[null,null,null,null,null,null,null,"1960-07-01","1960-06-30","2027-06-30",67,0,67,{"$f":"[2]!AOWDtm(I158)","v":"2027-06-30"},0]
[null,null,null,null,null,null,null,"1960-08-01","1960-07-31","2027-07-31",67,0,67,{"$f":"[2]!AOWDtm(I159)","v":"2027-07-31"},0]
[null,null,null,null,null,null,null,"1960-09-01","1960-08-31","2027-08-31",67,0,67,{"$f":"[2]!AOWDtm(I160)","v":"2027-08-31"},0]
[null,null,null,null,null,null,null,"1960-10-01","1960-09-30","2027-09-30",67,0,67,{"$f":"[2]!AOWDtm(I161)","v":"2027-09-30"},0]
[null,null,null,null,null,null,null,"1960-11-01","1960-10-31","2027-10-31",67,0,67,{"$f":"[2]!AOWDtm(I162)","v":"2027-10-31"},0]
[null,null,null,null,null,null,null,"1960-12-01","1960-11-30","2027-11-30",67,0,67,{"$f":"[2]!AOWDtm(I163)","v":"2027-11-30"},0]